BEGIN:VCALENDAR
VERSION:2.0
PRODID:-//DP Pro Event Calendar//3.2.7//EN
BEGIN:VEVENT
UID:a919c669-1cfc-475a-97ab-1eac6f86736a
DTSTART;TZID=America/New_York:20200826T190000
DTEND;TZID=America/New_York:20200826T190000
DTSTAMP:20190522T180427Z
SUMMARY:Zoning Hearing Board Meeting (As Needed)
DESCRIPTION:
LOCATION:111 Mill Rd.\, Schaefferstown\, PA 17088
URL:
RRULE:FREQ=MONTHLY;INTERVAL=1;BYSETPOS=4BYDAY=WEEND:VEVENT
END:VCALENDAR