BEGIN:VCALENDAR
VERSION:2.0
PRODID:-//DP Pro Event Calendar//3.2.7//EN
BEGIN:VEVENT
UID:0e803f19-2e5d-45c1-a539-4b1e87441a65
DTSTART;TZID=America/New_York:20201221T190000
DTEND;TZID=America/New_York:20201221T190000
DTSTAMP:20190524T142341Z
SUMMARY:Planning Commission Meeting
DESCRIPTION:\n \n 
LOCATION:111 Mill Rd.\, Schaefferstown\, PA 17088
URL:
RRULE:FREQ=MONTHLY;INTERVAL=1;BYSETPOS=3BYDAY=MOEND:VEVENT
END:VCALENDAR