BEGIN:VCALENDAR
VERSION:2.0
PRODID:-//DP Pro Event Calendar//3.2.7//EN
BEGIN:VEVENT
UID:e5d14d76-e8b8-4e33-b72f-917ebd40b6ad
DTSTART;TZID=America/New_York:20230619T190000
DTEND;TZID=America/New_York:20230619T190000
DTSTAMP:20190524T142341Z
SUMMARY:Planning Commission Meeting
DESCRIPTION:\n \n 
LOCATION:111 Mill Rd.\, Schaefferstown\, PA 17088
URL:
RRULE:FREQ=MONTHLY;INTERVAL=1;BYSETPOS=3BYDAY=MOEND:VEVENT
END:VCALENDAR