BEGIN:VCALENDAR
VERSION:2.0
PRODID:-//DP Pro Event Calendar//3.2.7//EN
BEGIN:VEVENT
UID:fce8225b-a2df-4b58-b7c8-4b70015dc425
DTSTART;TZID=America/New_York:20230717T150000
DTEND;TZID=America/New_York:20230717T150000
DTSTAMP:20230427T112543Z
SUMMARY:UTILITY BILLS DUE
DESCRIPTION:
LOCATION:
URL:
END:VEVENT
END:VCALENDAR