BEGIN:VCALENDAR
VERSION:2.0
PRODID:-//DP Pro Event Calendar//3.2.7//EN
BEGIN:VEVENT
UID:095a68b9-a238-4f91-9589-bc793fb39dd5
DTSTART;TZID=America/New_York:20231123T000000
DTEND;TZID=America/New_York:20231123T000000
DTSTAMP:20231114T170716Z
SUMMARY:Township Office Closed
DESCRIPTION:\n The Township Office will be closed.\n 
LOCATION:
URL:
END:VEVENT
END:VCALENDAR