BEGIN:VCALENDAR
VERSION:2.0
PRODID:-//DP Pro Event Calendar//3.2.7//EN
BEGIN:VEVENT
UID:85c061c4-3609-4856-9e69-f15f1e08f85f
DTSTART;TZID=America/New_York:20250217T190000
DTEND;TZID=America/New_York:20250217T190000
DTSTAMP:20190524T142341Z
SUMMARY:Planning Commission Meeting
DESCRIPTION:\n \n 
LOCATION:111 Mill Rd.\, Schaefferstown\, PA 17088
URL:
RRULE:FREQ=MONTHLY;INTERVAL=1;BYSETPOS=3BYDAY=MOEND:VEVENT
END:VCALENDAR