BEGIN:VCALENDAR
VERSION:2.0
PRODID:-//DP Pro Event Calendar//3.2.7//EN
BEGIN:VEVENT
UID:20ef3247-9e87-4958-a5ae-e108fad00835
DTSTART;TZID=America/New_York:20251015T150000
DTEND;TZID=America/New_York:20251015T150000
DTSTAMP:20230427T112543Z
SUMMARY:UTILITY BILLS DUE
DESCRIPTION:
LOCATION:
URL:
END:VEVENT
END:VCALENDAR