BEGIN:VCALENDAR
VERSION:2.0
PRODID:-//DP Pro Event Calendar//3.2.7//EN
BEGIN:VEVENT
UID:ae251d94-d878-47cb-90fc-53aa6b3ad89a
DTSTART;TZID=America/New_York:20260115T150000
DTEND;TZID=America/New_York:20260115T150000
DTSTAMP:20230427T112543Z
SUMMARY:UTILITY BILLS DUE
DESCRIPTION:
LOCATION:
URL:
END:VEVENT
END:VCALENDAR