BEGIN:VCALENDAR
VERSION:2.0
PRODID:-//DP Pro Event Calendar//3.2.7//EN
BEGIN:VEVENT
UID:492bf24b-5ddf-4a95-9c09-3bbc78a19902
DTSTART;TZID=America/New_York:20260715T150000
DTEND;TZID=America/New_York:20260715T150000
DTSTAMP:20230427T112543Z
SUMMARY:UTILITY BILLS DUE
DESCRIPTION:
LOCATION:
URL:
END:VEVENT
END:VCALENDAR