BEGIN:VCALENDAR
VERSION:2.0
PRODID:-//DP Pro Event Calendar//3.2.7//EN
BEGIN:VEVENT
UID:3d731539-c871-47fb-b88a-7c5d2a6adb2e
DTSTART;TZID=America/New_York:20261015T150000
DTEND;TZID=America/New_York:20261015T150000
DTSTAMP:20230427T112543Z
SUMMARY:UTILITY BILLS DUE
DESCRIPTION:
LOCATION:
URL:
END:VEVENT
END:VCALENDAR