BEGIN:VCALENDAR
VERSION:2.0
PRODID:-//DP Pro Event Calendar//3.2.7//EN
BEGIN:VEVENT
UID:43b9d029-690b-4e92-8286-f9f40568393f
DTSTART;TZID=America/New_York:20261019T190000
DTEND;TZID=America/New_York:20261019T190000
DTSTAMP:20190524T142341Z
SUMMARY:Planning Commission Meeting
DESCRIPTION:\n \n 
LOCATION:111 Mill Rd.\, Schaefferstown\, PA 17088
URL:
RRULE:FREQ=MONTHLY;INTERVAL=1;BYSETPOS=3BYDAY=MOEND:VEVENT
END:VCALENDAR