BEGIN:VCALENDAR
VERSION:2.0
PRODID:-//DP Pro Event Calendar//3.2.7//EN
BEGIN:VEVENT
UID:35a08346-c9fd-4f6c-9bc7-bc89a2b7fb34
DTSTART;TZID=America/New_York:20591022T190000
DTEND;TZID=America/New_York:20591022T190000
DTSTAMP:20190522T180427Z
SUMMARY:Zoning Hearing Board Meeting (As Needed)
DESCRIPTION:
LOCATION:111 Mill Rd.\, Schaefferstown\, PA 17088
URL:
RRULE:FREQ=MONTHLY;INTERVAL=1;BYSETPOS=4BYDAY=WEEND:VEVENT
END:VCALENDAR