BEGIN:VCALENDAR
VERSION:2.0
PRODID:-//DP Pro Event Calendar//3.2.7//EN
BEGIN:VEVENT
UID:ad505aa4-4235-4382-8acc-f7084b028cfe
DTSTART;TZID=America/New_York:20600428T190000
DTEND;TZID=America/New_York:20600428T190000
DTSTAMP:20190522T180427Z
SUMMARY:Zoning Hearing Board Meeting (As Needed)
DESCRIPTION:
LOCATION:111 Mill Rd.\, Schaefferstown\, PA 17088
URL:
RRULE:FREQ=MONTHLY;INTERVAL=1;BYSETPOS=4BYDAY=WEEND:VEVENT
END:VCALENDAR